BEGIN:VCALENDAR
VERSION:2.0
PRODID:-//SAR Finland ry - ECPv6.15.20//NONSGML v1.0//EN
CALSCALE:GREGORIAN
METHOD:PUBLISH
X-ORIGINAL-URL:http://sarfinland.fi
X-WR-CALDESC:Tapahtumat SAR Finland ry
REFRESH-INTERVAL;VALUE=DURATION:PT1H
X-Robots-Tag:noindex
X-PUBLISHED-TTL:PT1H
BEGIN:VTIMEZONE
TZID:Europe/Helsinki
BEGIN:DAYLIGHT
TZOFFSETFROM:+0200
TZOFFSETTO:+0300
TZNAME:EEST
DTSTART:20250330T010000
END:DAYLIGHT
BEGIN:STANDARD
TZOFFSETFROM:+0300
TZOFFSETTO:+0200
TZNAME:EET
DTSTART:20251026T010000
END:STANDARD
BEGIN:DAYLIGHT
TZOFFSETFROM:+0200
TZOFFSETTO:+0300
TZNAME:EEST
DTSTART:20260329T010000
END:DAYLIGHT
BEGIN:STANDARD
TZOFFSETFROM:+0300
TZOFFSETTO:+0200
TZNAME:EET
DTSTART:20261025T010000
END:STANDARD
BEGIN:DAYLIGHT
TZOFFSETFROM:+0200
TZOFFSETTO:+0300
TZNAME:EEST
DTSTART:20270328T010000
END:DAYLIGHT
BEGIN:STANDARD
TZOFFSETFROM:+0300
TZOFFSETTO:+0200
TZNAME:EET
DTSTART:20271031T010000
END:STANDARD
END:VTIMEZONE
BEGIN:VTIMEZONE
TZID:UTC
BEGIN:STANDARD
TZOFFSETFROM:+0000
TZOFFSETTO:+0000
TZNAME:UTC
DTSTART:20250101T000000
END:STANDARD
END:VTIMEZONE
BEGIN:VEVENT
DTSTART;TZID=Europe/Helsinki:20260329T170000
DTEND;TZID=Europe/Helsinki:20260329T200000
DTSTAMP:20260420T114826
CREATED:20260308T181024Z
LAST-MODIFIED:20260323T213715Z
UID:115-1774803600-1774814400@sarfinland.fi
SUMMARY:Ensiavun kertauskoulutus 1 (3h)
DESCRIPTION:Ensiavun kertauskoulutus (3 h) \nTämä kolmen tunnin mittainen ensiavun kertauskoulutus on suunnattu Keski-Suomen Vapepa-toimijoille. Koulutuksen tavoitteena on päivittää ja vahvistaa vapaaehtoisten ensiapuvalmiuksia tilanteissa\, joissa auttamistehtävillä kohdataan loukkaantuneita tai sairastuneita henkilöitä. \nKoulutus alkaa lyhyellä teoriaosuudella\, jossa kerrataan ensiavun keskeisiä periaatteita ja toimintamalleja. Tämän jälkeen siirrytään käytännön harjoitteluun rastikoulutuksena. \nRasteilla harjoitellaan keskeisiä ensiaputilanteita\, kuten: \n\nhypotermian tunnistaminen ja ensiapu\nsuuren verenvuodon tyrehdyttäminen\nelvytys ja peruselvytyksen toimintamalli\n\nKoulutus tarjoaa mahdollisuuden harjoitella käytännön taitoja turvallisessa ympäristössä ja vahvistaa valmiutta toimia ensiaputilanteissa Vapepan tehtävillä. \nHinta: 5 € (sisältää kahvitarjoilun sekä mahdollisen jaettavan koulutusmateriaalin).Paikka koulutukseen vahvistetaan maksamalla osallistumismaksu ilmoittautumisvastauksen mukana tulleen maksuohjeen mukaisesti. \nIlmoittautuminen:\nhttps://forms.cloud.microsoft/e/K7mtZ4Cix8
URL:http://sarfinland.fi/event/ensiavun-kertauskoulutus-1-3h/
LOCATION:AIlakinkatu 5\, Ailakinkatu 5\, Jyväskylä\, 40100\, Finland
CATEGORIES:Harjoitus,Koulutus
ATTACH;FMTTYPE=image/jpeg:http://sarfinland.fi/wp-content/uploads/2026/03/P40A0557-scaled.jpg
END:VEVENT
BEGIN:VEVENT
DTSTART;TZID=UTC:20260123T080000
DTEND;TZID=UTC:20260123T170000
DTSTAMP:20260420T114826
CREATED:20260121T141110Z
LAST-MODIFIED:20260121T141228Z
UID:78-1769155200-1769187600@sarfinland.fi
SUMMARY:Testi
DESCRIPTION:Harjoituksessa kehitetään etsintä- ja yhteistoimintataitoja Vapepan toimintamallin mukaisesti. Mukana on maastoetsintää\, viestintäharjoituksia ja johtamisen perusharjoittelua. Harjoitus soveltuu sekä uusille että kokeneemmille vapaaehtoisille. \nTarkemmat tiedot\, varusteluettelo ja kokoontumisohjeet toimitetaan osallistujille ennen harjoitusta.
URL:http://sarfinland.fi/event/testi/
LOCATION:Etsintäharjoitus\, Yliopistonkatu 26\, Jyväskylä\, 40100
CATEGORIES:Harjoitus,Koulutus
ORGANIZER;CN="SAR Keski-Suomi":MAILTO:info@sarkeskisuomi.fi
END:VEVENT
END:VCALENDAR